BEGIN:VCALENDAR
VERSION:2.0
PRODID:-//Acme Widgets\, Inc.//NONSGML ExportToCalendar//EN
CALSCALE:GREGORIAN
BEGIN:VEVENT
DTSTAMP:20260420T113851Z
UID:b54541a2-a8db-40ec-9ef2-353c413c6e26
DTSTART:20260507T173000
DTEND:20260507T180000
DESCRIPTION:Inspection for 13 La Scala Avenue\, MARIBYRNONG VIC 3032
LOCATION:13 La Scala Avenue\, MARIBYRNONG VIC 3032
SUMMARY:13 La Scala Avenue\, MARIBYRNONG VIC 3032
END:VEVENT
END:VCALENDAR
