BEGIN:VCALENDAR
VERSION:2.0
PRODID:-//Acme Widgets\, Inc.//NONSGML ExportToCalendar//EN
CALSCALE:GREGORIAN
BEGIN:VEVENT
DTSTAMP:20260423T121841Z
UID:d4067c2f-1a17-402b-a8f1-0779740f0f7e
DTSTART:20260510T104500
DTEND:20260510T111500
DESCRIPTION:Inspection for 35 Pendant Avenue\, BLACKTOWN NSW 2148
LOCATION:35 Pendant Avenue\, BLACKTOWN NSW 2148
SUMMARY:35 Pendant Avenue\, BLACKTOWN NSW 2148
END:VEVENT
END:VCALENDAR
