BEGIN:VCALENDAR
VERSION:2.0
PRODID:-//Acme Widgets\, Inc.//NONSGML ExportToCalendar//EN
CALSCALE:GREGORIAN
BEGIN:VEVENT
DTSTAMP:20260420T113654Z
UID:1922d07e-1bdd-49d4-aac2-03583e147b9b
DTSTART:20260528T173000
DTEND:20260528T180000
DESCRIPTION:Inspection for 13 La Scala Avenue\, MARIBYRNONG VIC 3032
LOCATION:13 La Scala Avenue\, MARIBYRNONG VIC 3032
SUMMARY:13 La Scala Avenue\, MARIBYRNONG VIC 3032
END:VEVENT
END:VCALENDAR
