BEGIN:VCALENDAR
VERSION:2.0
PRODID:-//Acme Widgets\, Inc.//NONSGML ExportToCalendar//EN
CALSCALE:GREGORIAN
BEGIN:VEVENT
DTSTAMP:20260423T121421Z
UID:930921b1-0473-4c24-800a-5ecbdac808af
DTSTART:20260509T103000
DTEND:20260509T110000
DESCRIPTION:Inspection for 35 Pendant Avenue\, BLACKTOWN NSW 2148
LOCATION:35 Pendant Avenue\, BLACKTOWN NSW 2148
SUMMARY:35 Pendant Avenue\, BLACKTOWN NSW 2148
END:VEVENT
END:VCALENDAR
