BEGIN:VCALENDAR
VERSION:2.0
PRODID:-//Acme Widgets\, Inc.//NONSGML ExportToCalendar//EN
CALSCALE:GREGORIAN
BEGIN:VEVENT
DTSTAMP:20260425T215301Z
UID:07207a16-11c1-42fa-945d-abe641b248ba
DTSTART:20260426T100000
DTEND:20260426T103000
DESCRIPTION:Inspection for 302 / 16 Sandstone Crescent\, MACQUARIE PARK NSW
  2113
LOCATION:302 / 16 Sandstone Crescent\, MACQUARIE PARK NSW 2113
SUMMARY:302 / 16 Sandstone Crescent\, MACQUARIE PARK NSW 2113
END:VEVENT
END:VCALENDAR
