BEGIN:VCALENDAR
VERSION:2.0
PRODID:-//Acme Widgets\, Inc.//NONSGML ExportToCalendar//EN
CALSCALE:GREGORIAN
BEGIN:VEVENT
DTSTAMP:20260420T113512Z
UID:93157085-6f3b-42e9-ab36-1b0ae48c5f2d
DTSTART:20260530T100000
DTEND:20260530T103000
DESCRIPTION:Inspection for 13 La Scala Avenue\, MARIBYRNONG VIC 3032
LOCATION:13 La Scala Avenue\, MARIBYRNONG VIC 3032
SUMMARY:13 La Scala Avenue\, MARIBYRNONG VIC 3032
END:VEVENT
END:VCALENDAR
