BEGIN:VCALENDAR
VERSION:2.0
PRODID:-//Acme Widgets\, Inc.//NONSGML ExportToCalendar//EN
CALSCALE:GREGORIAN
BEGIN:VEVENT
DTSTAMP:20260425T215014Z
UID:68535773-caa8-4109-9b45-74bf1071a588
DTSTART:20260530T091500
DTEND:20260530T094500
DESCRIPTION:Inspection for 42 George Street\, MAIDSTONE VIC 3012
LOCATION:42 George Street\, MAIDSTONE VIC 3012
SUMMARY:42 George Street\, MAIDSTONE VIC 3012
END:VEVENT
END:VCALENDAR
