BEGIN:VCALENDAR
VERSION:2.0
PRODID:-//Acme Widgets\, Inc.//NONSGML ExportToCalendar//EN
CALSCALE:GREGORIAN
BEGIN:VEVENT
DTSTAMP:20260423T121420Z
UID:7bf36301-5957-4a35-9ca4-bc6a1ac07a5a
DTSTART:20260517T104500
DTEND:20260517T111500
DESCRIPTION:Inspection for 35 Pendant Avenue\, BLACKTOWN NSW 2148
LOCATION:35 Pendant Avenue\, BLACKTOWN NSW 2148
SUMMARY:35 Pendant Avenue\, BLACKTOWN NSW 2148
END:VEVENT
END:VCALENDAR
