BEGIN:VCALENDAR
VERSION:2.0
PRODID:-//Acme Widgets\, Inc.//NONSGML ExportToCalendar//EN
CALSCALE:GREGORIAN
BEGIN:VEVENT
DTSTAMP:20260425T215014Z
UID:b6808cf4-94d2-4f20-a5b4-31fa67467707
DTSTART:20260502T091500
DTEND:20260502T094500
DESCRIPTION:Inspection for 42 George Street\, MAIDSTONE VIC 3012
LOCATION:42 George Street\, MAIDSTONE VIC 3012
SUMMARY:42 George Street\, MAIDSTONE VIC 3012
END:VEVENT
END:VCALENDAR
