BEGIN:VCALENDAR
VERSION:2.0
PRODID:-//Acme Widgets\, Inc.//NONSGML ExportToCalendar//EN
CALSCALE:GREGORIAN
BEGIN:VEVENT
DTSTAMP:20260420T113519Z
UID:6a02f009-7061-4f5d-bda3-65f0374aa70b
DTSTART:20260423T173000
DTEND:20260423T180000
DESCRIPTION:Inspection for 13 La Scala Avenue\, MARIBYRNONG VIC 3032
LOCATION:13 La Scala Avenue\, MARIBYRNONG VIC 3032
SUMMARY:13 La Scala Avenue\, MARIBYRNONG VIC 3032
END:VEVENT
END:VCALENDAR
