BEGIN:VCALENDAR
VERSION:2.0
PRODID:-//Acme Widgets\, Inc.//NONSGML ExportToCalendar//EN
CALSCALE:GREGORIAN
BEGIN:VEVENT
DTSTAMP:20260425T215230Z
UID:1985ce6d-1487-4926-a849-b7331377b7ff
DTSTART:20260516T091500
DTEND:20260516T094500
DESCRIPTION:Inspection for 42 George Street\, MAIDSTONE VIC 3012
LOCATION:42 George Street\, MAIDSTONE VIC 3012
SUMMARY:42 George Street\, MAIDSTONE VIC 3012
END:VEVENT
END:VCALENDAR
