BEGIN:VCALENDAR
VERSION:2.0
PRODID:-//Acme Widgets\, Inc.//NONSGML ExportToCalendar//EN
CALSCALE:GREGORIAN
BEGIN:VEVENT
DTSTAMP:20260424T114904Z
UID:b4d60303-0aef-4d72-aea2-5fc88042c474
DTSTART:20260425T134500
DTEND:20260425T141500
DESCRIPTION:Inspection for 16 Melanie Drive\, WERRIBEE VIC 3030
LOCATION:16 Melanie Drive\, WERRIBEE VIC 3030
SUMMARY:16 Melanie Drive\, WERRIBEE VIC 3030
END:VEVENT
END:VCALENDAR
