BEGIN:VCALENDAR
VERSION:2.0
PRODID:-//Acme Widgets\, Inc.//NONSGML ExportToCalendar//EN
CALSCALE:GREGORIAN
BEGIN:VEVENT
DTSTAMP:20260423T121222Z
UID:b5cacbcf-1775-4a8b-90d6-eb9bedd2c06c
DTSTART:20260520T171500
DTEND:20260520T174500
DESCRIPTION:Inspection for 35 Pendant Avenue\, BLACKTOWN NSW 2148
LOCATION:35 Pendant Avenue\, BLACKTOWN NSW 2148
SUMMARY:35 Pendant Avenue\, BLACKTOWN NSW 2148
END:VEVENT
END:VCALENDAR
