BEGIN:VCALENDAR
VERSION:2.0
PRODID:-//Acme Widgets\, Inc.//NONSGML ExportToCalendar//EN
CALSCALE:GREGORIAN
BEGIN:VEVENT
DTSTAMP:20260425T215208Z
UID:8979e1b9-cf9d-434e-bcb6-46d7eb14598f
DTSTART:20260523T091500
DTEND:20260523T094500
DESCRIPTION:Inspection for 42 George Street\, MAIDSTONE VIC 3012
LOCATION:42 George Street\, MAIDSTONE VIC 3012
SUMMARY:42 George Street\, MAIDSTONE VIC 3012
END:VEVENT
END:VCALENDAR
