BEGIN:VCALENDAR
VERSION:2.0
PRODID:-//Acme Widgets\, Inc.//NONSGML ExportToCalendar//EN
CALSCALE:GREGORIAN
BEGIN:VEVENT
DTSTAMP:20260425T215230Z
UID:be16b86c-aa0a-4c1f-99b2-f6eeca8e29cc
DTSTART:20260426T130000
DTEND:20260426T133000
DESCRIPTION:Inspection for 58 Pandora Street\, GREENACRE NSW 2190
LOCATION:58 Pandora Street\, GREENACRE NSW 2190
SUMMARY:58 Pandora Street\, GREENACRE NSW 2190
END:VEVENT
END:VCALENDAR
