BEGIN:VCALENDAR
VERSION:2.0
PRODID:-//Acme Widgets\, Inc.//NONSGML ExportToCalendar//EN
CALSCALE:GREGORIAN
BEGIN:VEVENT
DTSTAMP:20260421T082703Z
UID:1af4ac2c-7958-41e8-aded-9754e903ac32
DTSTART:20260418T090000
DTEND:20260418T093000
DESCRIPTION:Inspection for 392 Lawrence Hargrave Drive\, THIRROUL NSW 2515
LOCATION:392 Lawrence Hargrave Drive\, THIRROUL NSW 2515
SUMMARY:392 Lawrence Hargrave Drive\, THIRROUL NSW 2515
END:VEVENT
END:VCALENDAR
