BEGIN:VCALENDAR
VERSION:2.0
PRODID:-//Acme Widgets\, Inc.//NONSGML ExportToCalendar//EN
CALSCALE:GREGORIAN
BEGIN:VEVENT
DTSTAMP:20260425T215128Z
UID:925c0f82-3a2a-4b12-bbf7-69ad823282b0
DTSTART:20260509T091500
DTEND:20260509T094500
DESCRIPTION:Inspection for 42 George Street\, MAIDSTONE VIC 3012
LOCATION:42 George Street\, MAIDSTONE VIC 3012
SUMMARY:42 George Street\, MAIDSTONE VIC 3012
END:VEVENT
END:VCALENDAR
