BEGIN:VCALENDAR
VERSION:2.0
PRODID:-//Acme Widgets\, Inc.//NONSGML ExportToCalendar//EN
CALSCALE:GREGORIAN
BEGIN:VEVENT
DTSTAMP:20260423T121717Z
UID:24ad2010-9f25-4d5e-b5d6-b6a20818d6c2
DTSTART:20260516T103000
DTEND:20260516T110000
DESCRIPTION:Inspection for 35 Pendant Avenue\, BLACKTOWN NSW 2148
LOCATION:35 Pendant Avenue\, BLACKTOWN NSW 2148
SUMMARY:35 Pendant Avenue\, BLACKTOWN NSW 2148
END:VEVENT
END:VCALENDAR
