BEGIN:VCALENDAR
VERSION:2.0
PRODID:-//Acme Widgets\, Inc.//NONSGML ExportToCalendar//EN
CALSCALE:GREGORIAN
BEGIN:VEVENT
DTSTAMP:20260425T214858Z
UID:6e8bf354-fac7-4c54-8441-1c43da90730e
DTSTART:20260426T110000
DTEND:20260426T113000
DESCRIPTION:Inspection for 226 / 19 Partridge Avenue\, CASTLE HILL NSW 2154
LOCATION:226 / 19 Partridge Avenue\, CASTLE HILL NSW 2154
SUMMARY:226 / 19 Partridge Avenue\, CASTLE HILL NSW 2154
END:VEVENT
END:VCALENDAR
