BEGIN:VCALENDAR
VERSION:2.0
PRODID:-//Acme Widgets\, Inc.//NONSGML ExportToCalendar//EN
CALSCALE:GREGORIAN
BEGIN:VEVENT
DTSTAMP:20260420T113828Z
UID:1ea20ee0-708e-4fcd-80b4-243d6f9d8122
DTSTART:20260425T140000
DTEND:20260425T143000
DESCRIPTION:Inspection for A319 / 81-86 Courallie Avenue\, HOMEBUSH WEST NS
 W 2140
LOCATION:A319 / 81-86 Courallie Avenue\, HOMEBUSH WEST NSW 2140
SUMMARY:A319 / 81-86 Courallie Avenue\, HOMEBUSH WEST NSW 2140
END:VEVENT
END:VCALENDAR
