BEGIN:VCALENDAR
VERSION:2.0
PRODID:-//Acme Widgets\, Inc.//NONSGML ExportToCalendar//EN
CALSCALE:GREGORIAN
BEGIN:VEVENT
DTSTAMP:20260420T113715Z
UID:23f7f756-6395-4ac3-9f29-9ed450b2f32a
DTSTART:20260425T100000
DTEND:20260425T103000
DESCRIPTION:Inspection for 13 La Scala Avenue\, MARIBYRNONG VIC 3032
LOCATION:13 La Scala Avenue\, MARIBYRNONG VIC 3032
SUMMARY:13 La Scala Avenue\, MARIBYRNONG VIC 3032
END:VEVENT
END:VCALENDAR
